BEGIN:VCALENDAR
VERSION:2.0
PRODID:-//Least of Saints MC - ECPv6.15.20//NONSGML v1.0//EN
CALSCALE:GREGORIAN
METHOD:PUBLISH
X-WR-CALNAME:Least of Saints MC
X-ORIGINAL-URL:https://leastofsaintsmc.com
X-WR-CALDESC:Events for Least of Saints MC
REFRESH-INTERVAL;VALUE=DURATION:PT1H
X-Robots-Tag:noindex
X-PUBLISHED-TTL:PT1H
BEGIN:VTIMEZONE
TZID:America/New_York
BEGIN:DAYLIGHT
TZOFFSETFROM:-0500
TZOFFSETTO:-0400
TZNAME:EDT
DTSTART:20220313T070000
END:DAYLIGHT
BEGIN:STANDARD
TZOFFSETFROM:-0400
TZOFFSETTO:-0500
TZNAME:EST
DTSTART:20221106T060000
END:STANDARD
BEGIN:DAYLIGHT
TZOFFSETFROM:-0500
TZOFFSETTO:-0400
TZNAME:EDT
DTSTART:20230312T070000
END:DAYLIGHT
BEGIN:STANDARD
TZOFFSETFROM:-0400
TZOFFSETTO:-0500
TZNAME:EST
DTSTART:20231105T060000
END:STANDARD
BEGIN:DAYLIGHT
TZOFFSETFROM:-0500
TZOFFSETTO:-0400
TZNAME:EDT
DTSTART:20240310T070000
END:DAYLIGHT
BEGIN:STANDARD
TZOFFSETFROM:-0400
TZOFFSETTO:-0500
TZNAME:EST
DTSTART:20241103T060000
END:STANDARD
END:VTIMEZONE
BEGIN:VEVENT
DTSTART;TZID=America/New_York:20230325T110000
DTEND;TZID=America/New_York:20230325T150000
DTSTAMP:20260423T171310
CREATED:20230315T222323Z
LAST-MODIFIED:20230315T222323Z
UID:952-1679742000-1679756400@leastofsaintsmc.com
SUMMARY:LOS Central fundraiser
DESCRIPTION:
URL:https://leastofsaintsmc.com/event/los-central-fundraiser/
LOCATION:Fire House Church\, 1301 Roosevelt Avenue\, San Antonio\, TX\, 78210\, United States
END:VEVENT
BEGIN:VEVENT
DTSTART;TZID=America/New_York:20230325T140000
DTEND;TZID=America/New_York:20230325T170000
DTSTAMP:20260423T171310
CREATED:20230315T221735Z
LAST-MODIFIED:20230315T222551Z
UID:949-1679752800-1679763600@leastofsaintsmc.com
SUMMARY:L.O.S. MC Ellis Co 2 yr anniversary
DESCRIPTION:
URL:https://leastofsaintsmc.com/event/l-o-s-mc-ellis-co-2-yr-anniversary/
LOCATION:Ovilla Rd Church\, 315 W. Ovilla Rd\, Glenn Heights\, Texas
END:VEVENT
END:VCALENDAR