BEGIN:VCALENDAR
VERSION:2.0
PRODID:-//Least of Saints MC - ECPv6.15.20//NONSGML v1.0//EN
CALSCALE:GREGORIAN
METHOD:PUBLISH
X-WR-CALNAME:Least of Saints MC
X-ORIGINAL-URL:https://leastofsaintsmc.com
X-WR-CALDESC:Events for Least of Saints MC
REFRESH-INTERVAL;VALUE=DURATION:PT1H
X-Robots-Tag:noindex
X-PUBLISHED-TTL:PT1H
BEGIN:VTIMEZONE
TZID:America/New_York
BEGIN:DAYLIGHT
TZOFFSETFROM:-0500
TZOFFSETTO:-0400
TZNAME:EDT
DTSTART:20220313T070000
END:DAYLIGHT
BEGIN:STANDARD
TZOFFSETFROM:-0400
TZOFFSETTO:-0500
TZNAME:EST
DTSTART:20221106T060000
END:STANDARD
BEGIN:DAYLIGHT
TZOFFSETFROM:-0500
TZOFFSETTO:-0400
TZNAME:EDT
DTSTART:20230312T070000
END:DAYLIGHT
BEGIN:STANDARD
TZOFFSETFROM:-0400
TZOFFSETTO:-0500
TZNAME:EST
DTSTART:20231105T060000
END:STANDARD
BEGIN:DAYLIGHT
TZOFFSETFROM:-0500
TZOFFSETTO:-0400
TZNAME:EDT
DTSTART:20240310T070000
END:DAYLIGHT
BEGIN:STANDARD
TZOFFSETFROM:-0400
TZOFFSETTO:-0500
TZNAME:EST
DTSTART:20241103T060000
END:STANDARD
END:VTIMEZONE
BEGIN:VEVENT
DTSTART;TZID=America/New_York:20230225T080000
DTEND;TZID=America/New_York:20230225T213000
DTSTAMP:20260423T183929
CREATED:20230212T222239Z
LAST-MODIFIED:20230212T222239Z
UID:806-1677312000-1677360600@leastofsaintsmc.com
SUMMARY:LOS El Valle Charo Day Run
DESCRIPTION:
URL:https://leastofsaintsmc.com/event/los-el-valle-charo-day-run/
LOCATION:Brownsville\, Texas\, Brownsville\, Texas
END:VEVENT
BEGIN:VEVENT
DTSTART;TZID=America/New_York:20230225T130000
DTEND;TZID=America/New_York:20230225T200000
DTSTAMP:20260423T183929
CREATED:20230212T222708Z
LAST-MODIFIED:20230212T222708Z
UID:810-1677330000-1677355200@leastofsaintsmc.com
SUMMARY:Love Thy Neighbor
DESCRIPTION:
URL:https://leastofsaintsmc.com/event/love-thy-neighbor/
LOCATION:Houston\, 1705 1st St\, Galena Park\, Texas\, 77547
END:VEVENT
END:VCALENDAR